BEGIN:VCALENDAR
VERSION:2.0
PRODID:-//Associazione Figli d&#039;Arte Cuticchio - ECPv6.15.18//NONSGML v1.0//EN
CALSCALE:GREGORIAN
METHOD:PUBLISH
X-WR-CALNAME:Associazione Figli d&#039;Arte Cuticchio
X-ORIGINAL-URL:https://www.figlidartecuticchio.com
X-WR-CALDESC:Eventi per Associazione Figli d&#039;Arte Cuticchio
REFRESH-INTERVAL;VALUE=DURATION:PT1H
X-Robots-Tag:noindex
X-PUBLISHED-TTL:PT1H
BEGIN:VTIMEZONE
TZID:Europe/Rome
BEGIN:DAYLIGHT
TZOFFSETFROM:+0100
TZOFFSETTO:+0200
TZNAME:CEST
DTSTART:20210328T010000
END:DAYLIGHT
BEGIN:STANDARD
TZOFFSETFROM:+0200
TZOFFSETTO:+0100
TZNAME:CET
DTSTART:20211031T010000
END:STANDARD
BEGIN:DAYLIGHT
TZOFFSETFROM:+0100
TZOFFSETTO:+0200
TZNAME:CEST
DTSTART:20220327T010000
END:DAYLIGHT
BEGIN:STANDARD
TZOFFSETFROM:+0200
TZOFFSETTO:+0100
TZNAME:CET
DTSTART:20221030T010000
END:STANDARD
BEGIN:DAYLIGHT
TZOFFSETFROM:+0100
TZOFFSETTO:+0200
TZNAME:CEST
DTSTART:20230326T010000
END:DAYLIGHT
BEGIN:STANDARD
TZOFFSETFROM:+0200
TZOFFSETTO:+0100
TZNAME:CET
DTSTART:20231029T010000
END:STANDARD
BEGIN:DAYLIGHT
TZOFFSETFROM:+0100
TZOFFSETTO:+0200
TZNAME:CEST
DTSTART:20240331T010000
END:DAYLIGHT
BEGIN:STANDARD
TZOFFSETFROM:+0200
TZOFFSETTO:+0100
TZNAME:CET
DTSTART:20241027T010000
END:STANDARD
BEGIN:DAYLIGHT
TZOFFSETFROM:+0100
TZOFFSETTO:+0200
TZNAME:CEST
DTSTART:20250330T010000
END:DAYLIGHT
BEGIN:STANDARD
TZOFFSETFROM:+0200
TZOFFSETTO:+0100
TZNAME:CET
DTSTART:20251026T010000
END:STANDARD
BEGIN:DAYLIGHT
TZOFFSETFROM:+0100
TZOFFSETTO:+0200
TZNAME:CEST
DTSTART:20260329T010000
END:DAYLIGHT
BEGIN:STANDARD
TZOFFSETFROM:+0200
TZOFFSETTO:+0100
TZNAME:CET
DTSTART:20261025T010000
END:STANDARD
BEGIN:DAYLIGHT
TZOFFSETFROM:+0100
TZOFFSETTO:+0200
TZNAME:CEST
DTSTART:20270328T010000
END:DAYLIGHT
BEGIN:STANDARD
TZOFFSETFROM:+0200
TZOFFSETTO:+0100
TZNAME:CET
DTSTART:20271031T010000
END:STANDARD
END:VTIMEZONE
BEGIN:VEVENT
DTSTART;VALUE=DATE:20251212
DTEND;VALUE=DATE:20260107
DTSTAMP:20260419T224056
CREATED:20251219T184400Z
LAST-MODIFIED:20251219T184423Z
UID:17411-1765497600-1767743999@www.figlidartecuticchio.com
SUMMARY:"Francesco\, paladino di Cristo" — mostra  e visite guidate
DESCRIPTION:“Francesco\, paladino di Cristo”\nMOSTRA E VISITE GUIDATE\n12 dicembre – 6 gennaio\nore 10-13 e 16-18\nTutti i giorni tranne\ngiovedì 25 e venerdì 26\ningresso libero\nTeatro dei Pupi e Laboratorio — Via Bara all’Olivella\, 95/48 Palermo
URL:https://www.figlidartecuticchio.com/eventi/francesco-paladino-di-cristo-mostra-e-visite-guidate/
LOCATION:Teatro dei Pupi di Mimmo Cuticchio\, Via Bara 95\, Palermo\, PA\, 90133\, Italia
CATEGORIES:Esposizione,Laboratori,Opera dei Pupi,Presentazioni
ATTACH;FMTTYPE=image/jpeg:https://www.figlidartecuticchio.com/wp-content/uploads/2025/12/Presepe-2025.jpg
ORGANIZER;CN="Associazione Figli d'Arte Cuticchio":MAILTO:pupi@figlidartecuticchio.com
END:VEVENT
BEGIN:VEVENT
DTSTART;TZID=Europe/Rome:20251117T203000
DTEND;TZID=Europe/Rome:20251117T203000
DTSTAMP:20260419T224056
CREATED:20250926T121024Z
LAST-MODIFIED:20250930T104639Z
UID:17338-1763411400-1763411400@www.figlidartecuticchio.com
SUMMARY:L’ORLANDO FURIOSO\, OVVERO IL MERAVIGLIOSO VIAGGIO DI ASTOLFO SULLA LUNA
DESCRIPTION:L’ORLANDO FURIOSO\, OVVERO IL MERAVIGLIOSO VIAGGIO DI ASTOLFO SULLA LUNA\nIn occasione di “Living and Learning in Cefalù”\, Road Scholar offre un evento di altissimo spessore culturale firmato Figli d’Arte Cuticchio\nL’Orlando Furioso\, ovvero il meraviglioso viaggio di Astolfo sulla luna\, è uno spettacolo di Opera dei Pupi e Musica diretto da Giacomo Cuticchio che vede l’unione del tradizionale Teatro dell’Opera dei Pupi con il nuovo mondo della Musica Contemporanea.L’evento\, scritto e diretto dall’artista Giacomo Cuticchio\, prevede la presenza della storica compagnia di pupari e dei musicisti del Giacomo Cuticchio Ensemble.La pazzia di Orlando è uno degli episodi più cari al pubblico tradizionale dell’Opera dei Pupi. Uno spettacolo in cui si manifesta la vitalità del teatro in modo semplice\, diretto\, forte\, con mezzi sapientissimi che colpiscono tutti i sensi.Giacomo Cuticchio\, oprante e compositore\, propone una sua creazione caratterizzata dagli accenti epici\, non separabili dall’esercizio teatrale né riducibile alla sua sola persona.Lo spettacolo sintetizza una doppia operazione: da un lato il riconoscimento indiscusso del patrimonio culturale di una tradizione e il suo pieno possesso a livello di mestiere e di universo culturale; dall’altro l’allontanamento e l’innovamento per creare il proprio spazio autonomo di artista e traghettare l’Opera dei Pupi nella contemporaneità.Un atto d’amore verso il Teatro dei Pupi\, una memoria funzionale alla pratica artistica\, l’habitat indispensabile all’esercizio stesso dell’Opra e al rapporto con il pubblico. Lo spettacolo si rivela come confluenza unitaria di più elementi e di più linguaggi\, proposti al pubblico con pari dignità. La messa in scena è avvalorata dall’accompagnamento live dei professori d’orchestra del Giacomo Cuticchio Ensemble che eseguiranno\, come colonna sonora\, le Musiche di Scena per il Teatro dei Pupi appositamente scritte.
URL:https://www.figlidartecuticchio.com/eventi/lorlando-furioso-ovvero-il-meraviglioso-viaggio-di-astolfo-sulla-luna/
LOCATION:TEATRO SALVATORE CICERO DI CEFALÙ (PA)\, Corso Ruggero\, 139\, Cefalù\, PA\, 90015\, Italia
CATEGORIES:Esposizione,Evento,Incontri,Laboratori,Opera dei Pupi,Presentazioni,Spettacoli,Visite guidate
ATTACH;FMTTYPE=image/jpeg:https://www.figlidartecuticchio.com/wp-content/uploads/2025/09/PHOTO-2025-09-30-10-20-07.jpg
ORGANIZER;CN="Road Scholar | Living and Learning in Cefal%C3%B9 (Palermo)":MAILTO:contact@roadscholar.org
END:VEVENT
BEGIN:VEVENT
DTSTART;TZID=Europe/Rome:20231029T110000
DTEND;TZID=Europe/Rome:20231029T110000
DTSTAMP:20260419T224056
CREATED:20231006T181319Z
LAST-MODIFIED:20231020T075951Z
UID:16182-1698577200-1698577200@www.figlidartecuticchio.com
SUMMARY:VISITA GUIDATA AL LABORATORIO TEATRALE E ALLO STORICO TEATRO DEI FIGLI D'ARTE CUTICCHIO
DESCRIPTION:VISITA GUIDATA AL LABORATORIO TEATRALE E ALLO STORICO TEATRO DEI FIGLI D’ARTE CUTICCHIO\nVia Bara all’Olivella 48/95 – 90133 Palermo\nI visitatori sono invitati a conoscere la tradizione del teatro di figura siciliano\, propriamente detto Opera dei Pupi\, attraverso la voce di Giacomo Cuticchio\, erede della famiglia di artisti che da generazioni porta avanti il mestiere di puparo. \nAttraverso l’incontro presso il Laboratorio teatrale\, Giacomo introdurrà il pubblico al magico mondo epico cavalleresco\, insignito dall’Unesco patrimonio immateriale dell’umanità. Dopo avere mostrato i pupi e le macchine sceniche che hanno fatto la storia del teatro\, Giacomo farà ascoltare la collezione dei piani a cilindro raccontando storie e retroscena legati alla “colonna sonora” del Teatro dei Pupi\, dagli albori del mestiere\, che in principio vide l’accompagnamento dei “sunatura” in carne ed ossa\, all’arrivo dei piani a rullo\, diffusissimi in tutta Europa ad inizio del secolo scorso\, ma resi unici dagli opranti pupari palermitani che in questi cilindri fecero incidere quelle musiche eseguite un tempo dai “sunatura”\, risolvendo così diversi problemi di natura logistica\, pratica ed economica. Il pubblico ascolterà così battaglie\, marce e galoppi non in una “riproduzione” ma in una vera e propria “produzione” del suono che\, come cento anni fa\, avviene ancora oggi azionando le maniglie dei piani a cilindro\, in un magico viaggio nel tempo dentro le sonorità del meraviglioso Teatro dei Pupi.\nNB: OTTIENI ACCESSO GRATUITO SCARICANDO COUPON DAL PORTALE DI FUDDA FEST 2023 http://fuddafest.eventbrite.it (SOLO 10 PAX) – DALL’UNDICESIMO ACCESSO GLI INGRESSI AVRANNO UN COSTO DI 5€ A PERSONA.
URL:https://www.figlidartecuticchio.com/eventi/visita-guidata-al-laboratorio-teatrale-e-allo-storico-teatro-dei-figli-darte-cuticchio-4/
LOCATION:Teatro dei Pupi di Mimmo Cuticchio\, Via Bara 95\, Palermo\, PA\, 90133\, Italia
CATEGORIES:Esposizione,Evento,Incontri,Laboratori,Presentazioni,Spettacoli,Visite guidate
ATTACH;FMTTYPE=image/jpeg:https://www.figlidartecuticchio.com/wp-content/uploads/2023/10/Laboratorio-Teatrale-Cuticchio-@-Carmela-Rizzuti.jpg
END:VEVENT
BEGIN:VEVENT
DTSTART;TZID=Europe/Rome:20231028T110000
DTEND;TZID=Europe/Rome:20231028T110000
DTSTAMP:20260419T224056
CREATED:20231006T181210Z
LAST-MODIFIED:20231020T080046Z
UID:16180-1698490800-1698490800@www.figlidartecuticchio.com
SUMMARY:VISITA GUIDATA AL LABORATORIO TEATRALE E ALLO STORICO TEATRO DEI FIGLI D'ARTE CUTICCHIO
DESCRIPTION:VISITA GUIDATA AL LABORATORIO TEATRALE E ALLO STORICO TEATRO DEI FIGLI D’ARTE CUTICCHIO\nVia Bara all’Olivella 48/95 – 90133 Palermo\nI visitatori sono invitati a conoscere la tradizione del teatro di figura siciliano\, propriamente detto Opera dei Pupi\, attraverso la voce di Giacomo Cuticchio\, erede della famiglia di artisti che da generazioni porta avanti il mestiere di puparo. \nAttraverso l’incontro presso il Laboratorio teatrale\, Giacomo introdurrà il pubblico al magico mondo epico cavalleresco\, insignito dall’Unesco patrimonio immateriale dell’umanità. Dopo avere mostrato i pupi e le macchine sceniche che hanno fatto la storia del teatro\, Giacomo farà ascoltare la collezione dei piani a cilindro raccontando storie e retroscena legati alla “colonna sonora” del Teatro dei Pupi\, dagli albori del mestiere\, che in principio vide l’accompagnamento dei “sunatura” in carne ed ossa\, all’arrivo dei piani a rullo\, diffusissimi in tutta Europa ad inizio del secolo scorso\, ma resi unici dagli opranti pupari palermitani che in questi cilindri fecero incidere quelle musiche eseguite un tempo dai “sunatura”\, risolvendo così diversi problemi di natura logistica\, pratica ed economica. Il pubblico ascolterà così battaglie\, marce e galoppi non in una “riproduzione” ma in una vera e propria “produzione” del suono che\, come cento anni fa\, avviene ancora oggi azionando le maniglie dei piani a cilindro\, in un magico viaggio nel tempo dentro le sonorità del meraviglioso Teatro dei Pupi.\nNB: OTTIENI ACCESSO GRATUITO SCARICANDO COUPON DAL PORTALE DI FUDDA FEST 2023 http://fuddafest.eventbrite.it (SOLO 10 PAX) – DALL’UNDICESIMO ACCESSO GLI INGRESSI AVRANNO UN COSTO DI 5€ A PERSONA.
URL:https://www.figlidartecuticchio.com/eventi/visita-guidata-al-laboratorio-teatrale-e-allo-storico-teatro-dei-figli-darte-cuticchio-3/
LOCATION:Teatro dei Pupi di Mimmo Cuticchio\, Via Bara 95\, Palermo\, PA\, 90133\, Italia
CATEGORIES:Esposizione,Evento,Incontri,Laboratori,Presentazioni,Visite guidate
ATTACH;FMTTYPE=image/jpeg:https://www.figlidartecuticchio.com/wp-content/uploads/2023/10/Laboratorio-Teatrale-Cuticchio-@-Carmela-Rizzuti.jpg
END:VEVENT
BEGIN:VEVENT
DTSTART;TZID=Europe/Rome:20231026T110000
DTEND;TZID=Europe/Rome:20231026T110000
DTSTAMP:20260419T224056
CREATED:20231006T180714Z
LAST-MODIFIED:20231020T080143Z
UID:16175-1698318000-1698318000@www.figlidartecuticchio.com
SUMMARY:VISITA GUIDATA AL LABORATORIO TEATRALE E ALLO STORICO TEATRO DEI FIGLI D'ARTE CUTICCHIO
DESCRIPTION:VISITA GUIDATA AL LABORATORIO TEATRALE E ALLO STORICO TEATRO DEI FIGLI D’ARTE CUTICCHIO\nVia Bara all’Olivella 48/95 – 90133 Palermo\nI visitatori sono invitati a conoscere la tradizione del teatro di figura siciliano\, propriamente detto Opera dei Pupi\, attraverso la voce di Giacomo Cuticchio\, erede della famiglia di artisti che da generazioni porta avanti il mestiere di puparo. \nAttraverso l’incontro presso il Laboratorio teatrale\, Giacomo introdurrà il pubblico al magico mondo epico cavalleresco\, insignito dall’Unesco patrimonio immateriale dell’umanità. Dopo avere mostrato i pupi e le macchine sceniche che hanno fatto la storia del teatro\, Giacomo farà ascoltare la collezione dei piani a cilindro raccontando storie e retroscena legati alla “colonna sonora” del Teatro dei Pupi\, dagli albori del mestiere\, che in principio vide l’accompagnamento dei “sunatura” in carne ed ossa\, all’arrivo dei piani a rullo\, diffusissimi in tutta Europa ad inizio del secolo scorso\, ma resi unici dagli opranti pupari palermitani che in questi cilindri fecero incidere quelle musiche eseguite un tempo dai “sunatura”\, risolvendo così diversi problemi di natura logistica\, pratica ed economica. Il pubblico ascolterà così battaglie\, marce e galoppi non in una “riproduzione” ma in una vera e propria “produzione” del suono che\, come cento anni fa\, avviene ancora oggi azionando le maniglie dei piani a cilindro\, in un magico viaggio nel tempo dentro le sonorità del meraviglioso Teatro dei Pupi.\nNB: OTTIENI ACCESSO GRATUITO SCARICANDO COUPON DAL PORTALE DI FUDDA FEST 2023 http://fuddafest.eventbrite.it (SOLO 10 PAX) – DALL’UNDICESIMO ACCESSO GLI INGRESSI AVRANNO UN COSTO DI 5€ A PERSONA.
URL:https://www.figlidartecuticchio.com/eventi/visita-guidata-al-laboratorio-teatrale-e-allo-storico-teatro-dei-figli-darte-cuticchio/
LOCATION:Teatro dei Pupi di Mimmo Cuticchio\, Via Bara 95\, Palermo\, PA\, 90133\, Italia
CATEGORIES:Esposizione,Evento,Laboratori,Presentazioni,Visite guidate
ATTACH;FMTTYPE=image/jpeg:https://www.figlidartecuticchio.com/wp-content/uploads/2023/10/Laboratorio-Teatrale-Cuticchio-@-Carmela-Rizzuti.jpg
END:VEVENT
BEGIN:VEVENT
DTSTART;TZID=Europe/Rome:20230416T190000
DTEND;TZID=Europe/Rome:20230416T190000
DTSTAMP:20260419T224056
CREATED:20230331T203410Z
LAST-MODIFIED:20230331T203812Z
UID:15692-1681671600-1681671600@www.figlidartecuticchio.com
SUMMARY:SULLE VIE DELL'INFERNO Performance Documentary Figli d'Arte Cuticchio
DESCRIPTION:Go behind the scenes of the Sicilian puppetry company’s work in this eclectic docu-film. A live Q&A with the artists follows.\n(Loew Auditorium) \nBased on Dante’s Inferno\, Sulle Vie dell’Inferno (On the Pathway to Hell in English) was a one-time performance created by Figli d’Arte Cuticchio for the 700th anniversary of the Italian poet’s death in 2021. The performance is conceived and directed by master puppeteer and company founder Mimmo Cuticchio. \nSulle Vie dell’Inferno is an example of how Cuticchio has sought to re-energize the popular theatrical tradition of Sicilian puppetry that he was born into. \nThe film is in Italian with English subtitles. The screening is followed by a live Q&A with the artists. \nThis event is free and unticketed. \nThe film is part of Figli d’Arte Cuticchio’s residency at the Hop. Learn more about their performance La Storia del Soldata\, showing at the Hop April 18–19\, and Sicilian puppetry here. \nCo-sponsored by the Leslie Center for the Humanities\, the Department of French and Italian and the Program in Comparative Literature
URL:https://www.figlidartecuticchio.com/eventi/sulle-vie-dellinferno-performance-documentary-figli-darte-cuticchio/
LOCATION:Dartmouth College  (Dartmouth Hall: Room 105)\, College St\, St\, Hanover\, NH\, 03755\, Stati Uniti
CATEGORIES:Evento,Incontri,Presentazioni
ATTACH;FMTTYPE=image/jpeg:https://www.figlidartecuticchio.com/wp-content/uploads/2021/11/IMG_3543.jpg
ORGANIZER;CN="Dartmouth College":MAILTO:hop.box@dartmouth.edu
END:VEVENT
BEGIN:VEVENT
DTSTART;TZID=Europe/Rome:20221202T193000
DTEND;TZID=Europe/Rome:20221202T193000
DTSTAMP:20260419T224056
CREATED:20221130T163228Z
LAST-MODIFIED:20221130T163241Z
UID:15568-1670009400-1670009400@www.figlidartecuticchio.com
SUMMARY:SULLE VIE DELL'INFERNO (Torino Film Fest) 2022
DESCRIPTION:
URL:https://www.figlidartecuticchio.com/eventi/sulle-vie-dellinferno-torino-film-fest-2022/
LOCATION:PA
CATEGORIES:Evento,Presentazioni
ATTACH;FMTTYPE=image/jpeg:https://www.figlidartecuticchio.com/wp-content/uploads/2022/11/Manifesto-Torino-Film-Fest-2022-scaled.jpg
END:VEVENT
END:VCALENDAR