BEGIN:VCALENDAR
VERSION:2.0
PRODID:-//Associazione Figli d&#039;Arte Cuticchio - ECPv6.15.18//NONSGML v1.0//EN
CALSCALE:GREGORIAN
METHOD:PUBLISH
X-ORIGINAL-URL:https://www.figlidartecuticchio.com
X-WR-CALDESC:Eventi per Associazione Figli d&#039;Arte Cuticchio
REFRESH-INTERVAL;VALUE=DURATION:PT1H
X-Robots-Tag:noindex
X-PUBLISHED-TTL:PT1H
BEGIN:VTIMEZONE
TZID:Europe/Rome
BEGIN:DAYLIGHT
TZOFFSETFROM:+0100
TZOFFSETTO:+0200
TZNAME:CEST
DTSTART:20250330T010000
END:DAYLIGHT
BEGIN:STANDARD
TZOFFSETFROM:+0200
TZOFFSETTO:+0100
TZNAME:CET
DTSTART:20251026T010000
END:STANDARD
BEGIN:DAYLIGHT
TZOFFSETFROM:+0100
TZOFFSETTO:+0200
TZNAME:CEST
DTSTART:20260329T010000
END:DAYLIGHT
BEGIN:STANDARD
TZOFFSETFROM:+0200
TZOFFSETTO:+0100
TZNAME:CET
DTSTART:20261025T010000
END:STANDARD
BEGIN:DAYLIGHT
TZOFFSETFROM:+0100
TZOFFSETTO:+0200
TZNAME:CEST
DTSTART:20270328T010000
END:DAYLIGHT
BEGIN:STANDARD
TZOFFSETFROM:+0200
TZOFFSETTO:+0100
TZNAME:CET
DTSTART:20271031T010000
END:STANDARD
END:VTIMEZONE
BEGIN:VEVENT
DTSTART;TZID=Europe/Rome:20260411T183000
DTEND;TZID=Europe/Rome:20260411T183000
DTSTAMP:20260419T214612
CREATED:20260314T151233Z
LAST-MODIFIED:20260314T151233Z
UID:17617-1775932200-1775932200@www.figlidartecuticchio.com
SUMMARY:STORIA DEI PALADINI DI FRANCIA
DESCRIPTION:Storia dei Paladini di Francia\nSpettacoli tutti i sabati e le domeniche ore 18\,30\nconsigliata la prenotazione telefonica
URL:https://www.figlidartecuticchio.com/eventi/storia-dei-paladini-di-francia-125/
LOCATION:Teatro dei Pupi di Mimmo Cuticchio\, Via Bara 95\, Palermo\, PA\, 90133\, Italia
CATEGORIES:Opera dei Pupi
ATTACH;FMTTYPE=image/jpeg:https://www.figlidartecuticchio.com/wp-content/uploads/2021/11/Paldini-tot-©-Aleddandro-DAmico.jpg.jpg
ORGANIZER;CN="Associazione Figli d'Arte Cuticchio":MAILTO:pupi@figlidartecuticchio.com
END:VEVENT
BEGIN:VEVENT
DTSTART;TZID=Europe/Rome:20260418T183000
DTEND;TZID=Europe/Rome:20260418T183000
DTSTAMP:20260419T214612
CREATED:20260314T151448Z
LAST-MODIFIED:20260314T151448Z
UID:17619-1776537000-1776537000@www.figlidartecuticchio.com
SUMMARY:STORIA DEI PALADINI DI FRANCIA
DESCRIPTION:Storia dei Paladini di Francia\nSpettacoli tutti i sabati e le domeniche ore 18\,30\nconsigliata la prenotazione telefonica
URL:https://www.figlidartecuticchio.com/eventi/storia-dei-paladini-di-francia-126/
LOCATION:Teatro dei Pupi di Mimmo Cuticchio\, Via Bara 95\, Palermo\, PA\, 90133\, Italia
CATEGORIES:Opera dei Pupi
ATTACH;FMTTYPE=image/jpeg:https://www.figlidartecuticchio.com/wp-content/uploads/2021/11/Paldini-tot-©-Aleddandro-DAmico.jpg.jpg
ORGANIZER;CN="Associazione Figli d'Arte Cuticchio":MAILTO:pupi@figlidartecuticchio.com
END:VEVENT
BEGIN:VEVENT
DTSTART;TZID=Europe/Rome:20260420T203000
DTEND;TZID=Europe/Rome:20260420T203000
DTSTAMP:20260419T214612
CREATED:20260314T145815Z
LAST-MODIFIED:20260419T114814Z
UID:17611-1776717000-1776717000@www.figlidartecuticchio.com
SUMMARY:IL GRAN DUELLO DI ORLANDO E RINALDO PER AMORE DELLA BELLA ANGELICA (evento speciale)
DESCRIPTION:IL GRAN DUELLO DI ORLANDO E RINALDO PER AMORE DELLA BELLA ANGELICA (evento speciale)*\nParigi è minacciata d’assedio ma dalla corte di Carlo Magno si sono allontanati numerosi paladini\, che presi d’amore per Angelica si sono messi alla sua ricerca. \nAnche Orlando\, che è il capitan generale e il più valoroso\, ha abbandonato la corte e a Re Carlo non rimane che affidare a Rinaldo il comando dell’armata francese. \nSeguono battaglie\, fughe\, scontri con esseri fantastici. Anche Rinaldo finisce per trascurare il dovere e\, infiammatosi d’amore per Angelica\, la contende ad Orlando. I due paladini si sfidano a duello\, si sarebbero sicuramente uccisi a vicenda se a dividerli non fosse intervenuto il mago Malagigi… \n  \n*Ingresso offerto offerto da Road Scholar con accesso libero sino ad esaurimento posti
URL:https://www.figlidartecuticchio.com/eventi/cimbelino-da-william-shakespeare-evento-speciale/
LOCATION:TEATRO SALVATORE CICERO DI CEFALÙ (PA)\, Corso Ruggero\, 139\, Cefalù\, PA\, 90015\, Italia
CATEGORIES:Evento,Opera dei Pupi
ATTACH;FMTTYPE=image/jpeg:https://www.figlidartecuticchio.com/wp-content/uploads/2026/03/LOrlando-innamorato.jpg
ORGANIZER;CN="Road Scholar | Living and Learning in Cefal%C3%B9 (Palermo)":MAILTO:contact@roadscholar.org
END:VEVENT
BEGIN:VEVENT
DTSTART;TZID=Europe/Rome:20260425T183000
DTEND;TZID=Europe/Rome:20260425T183000
DTSTAMP:20260419T214612
CREATED:20260314T151704Z
LAST-MODIFIED:20260314T151704Z
UID:17621-1777141800-1777141800@www.figlidartecuticchio.com
SUMMARY:STORIA DEI PALADINI DI FRANCIA
DESCRIPTION:Storia dei Paladini di Francia\nSpettacoli tutti i sabati e le domeniche ore 18\,30\nconsigliata la prenotazione telefonica
URL:https://www.figlidartecuticchio.com/eventi/storia-dei-paladini-di-francia-127/
LOCATION:Teatro dei Pupi di Mimmo Cuticchio\, Via Bara 95\, Palermo\, PA\, 90133\, Italia
CATEGORIES:Opera dei Pupi
ATTACH;FMTTYPE=image/jpeg:https://www.figlidartecuticchio.com/wp-content/uploads/2022/09/83656856_2724237834320363_4861159537412931584_n.jpg
ORGANIZER;CN="Associazione Figli d'Arte Cuticchio":MAILTO:pupi@figlidartecuticchio.com
END:VEVENT
BEGIN:VEVENT
DTSTART;TZID=Europe/Rome:20260426T183000
DTEND;TZID=Europe/Rome:20260426T183000
DTSTAMP:20260419T214612
CREATED:20260314T151828Z
LAST-MODIFIED:20260314T151828Z
UID:17623-1777228200-1777228200@www.figlidartecuticchio.com
SUMMARY:STORIA DEI PALADINI DI FRANCIA
DESCRIPTION:Storia dei Paladini di Francia\nSpettacoli tutti i sabati e le domeniche ore 18\,30\nconsigliata la prenotazione telefonica
URL:https://www.figlidartecuticchio.com/eventi/storia-dei-paladini-di-francia-128/
LOCATION:Teatro dei Pupi di Mimmo Cuticchio\, Via Bara 95\, Palermo\, PA\, 90133\, Italia
CATEGORIES:Opera dei Pupi
ATTACH;FMTTYPE=image/jpeg:https://www.figlidartecuticchio.com/wp-content/uploads/2022/09/83656856_2724237834320363_4861159537412931584_n.jpg
ORGANIZER;CN="Associazione Figli d'Arte Cuticchio":MAILTO:pupi@figlidartecuticchio.com
END:VEVENT
BEGIN:VEVENT
DTSTART;TZID=Europe/Rome:20260502T183000
DTEND;TZID=Europe/Rome:20260502T183000
DTSTAMP:20260419T214612
CREATED:20260419T150214Z
LAST-MODIFIED:20260419T150214Z
UID:17677-1777746600-1777746600@www.figlidartecuticchio.com
SUMMARY:STORIA DEI PALADINI DI FRANCIA
DESCRIPTION:STORIA DEI PALADINI DI FRANCIA\nSpettacoli tutti i sabati e le domeniche ore 18\,30\nconsigliata la prenotazione telefonica
URL:https://www.figlidartecuticchio.com/eventi/storia-dei-paladini-di-francia-136/
LOCATION:Teatro dei Pupi di Mimmo Cuticchio\, Via Bara 95\, Palermo\, PA\, 90133\, Italia
CATEGORIES:Opera dei Pupi
ATTACH;FMTTYPE=image/jpeg:https://www.figlidartecuticchio.com/wp-content/uploads/2022/07/Giacomo-Cuticchio-@-Giuseppe-Bellomare-scaled.jpg
ORGANIZER;CN="Associazione Figli d'Arte Cuticchio":MAILTO:pupi@figlidartecuticchio.com
END:VEVENT
BEGIN:VEVENT
DTSTART;TZID=Europe/Rome:20260503T183000
DTEND;TZID=Europe/Rome:20260503T183000
DTSTAMP:20260419T214612
CREATED:20260419T150349Z
LAST-MODIFIED:20260419T150349Z
UID:17679-1777833000-1777833000@www.figlidartecuticchio.com
SUMMARY:STORIA DEI PALADINI DI FRANCIA
DESCRIPTION:STORIA DEI PALADINI DI FRANCIA\nSpettacoli tutti i sabati e le domeniche ore 18\,30\nconsigliata la prenotazione telefonica
URL:https://www.figlidartecuticchio.com/eventi/storia-dei-paladini-di-francia-137/
LOCATION:Teatro dei Pupi di Mimmo Cuticchio\, Via Bara 95\, Palermo\, PA\, 90133\, Italia
CATEGORIES:Opera dei Pupi
ATTACH;FMTTYPE=image/jpeg:https://www.figlidartecuticchio.com/wp-content/uploads/2025/10/tteatroCanon-_mg_7353_n.e.-1-scaled.jpeg
ORGANIZER;CN="Associazione Figli d'Arte Cuticchio":MAILTO:pupi@figlidartecuticchio.com
END:VEVENT
BEGIN:VEVENT
DTSTART;TZID=Europe/Rome:20260523T173000
DTEND;TZID=Europe/Rome:20260523T173000
DTSTAMP:20260419T214612
CREATED:20260419T152525Z
LAST-MODIFIED:20260419T152534Z
UID:17699-1779557400-1779557400@www.figlidartecuticchio.com
SUMMARY:STORIA DEI PALADINI DI FRANCIA
DESCRIPTION:STORIA DEI PALADINI DI FRANCIA\nSpettacoli tutti i sabati e le domeniche ore 18\,30\nconsigliata la prenotazione telefonica
URL:https://www.figlidartecuticchio.com/eventi/storia-dei-paladini-di-francia-144/
LOCATION:Teatro dei Pupi di Mimmo Cuticchio\, Via Bara 95\, Palermo\, PA\, 90133\, Italia
CATEGORIES:Evento,Opera dei Pupi
ATTACH;FMTTYPE=image/jpeg:https://www.figlidartecuticchio.com/wp-content/uploads/2025/10/tteatroCanon-_mg_7353_n.e.-1-scaled.jpeg
ORGANIZER;CN="Associazione Figli d'Arte Cuticchio":MAILTO:pupi@figlidartecuticchio.com
END:VEVENT
BEGIN:VEVENT
DTSTART;TZID=Europe/Rome:20260524T183000
DTEND;TZID=Europe/Rome:20260524T183000
DTSTAMP:20260419T214612
CREATED:20260419T152657Z
LAST-MODIFIED:20260419T152657Z
UID:17701-1779647400-1779647400@www.figlidartecuticchio.com
SUMMARY:STORIA DEI PALADINI DI FRANCIA
DESCRIPTION:STORIA DEI PALADINI DI FRANCIA\nSpettacoli tutti i sabati e le domeniche ore 18\,30\nconsigliata la prenotazione telefonica
URL:https://www.figlidartecuticchio.com/eventi/storia-dei-paladini-di-francia-145/
LOCATION:Teatro dei Pupi di Mimmo Cuticchio\, Via Bara 95\, Palermo\, PA\, 90133\, Italia
CATEGORIES:Opera dei Pupi
ATTACH;FMTTYPE=image/jpeg:https://www.figlidartecuticchio.com/wp-content/uploads/2025/10/tteatroCanon-_mg_7353_n.e.-1-scaled.jpeg
ORGANIZER;CN="Associazione Figli d'Arte Cuticchio":MAILTO:pupi@figlidartecuticchio.com
END:VEVENT
BEGIN:VEVENT
DTSTART;TZID=Europe/Rome:20260530T183000
DTEND;TZID=Europe/Rome:20260530T183000
DTSTAMP:20260419T214612
CREATED:20260419T152904Z
LAST-MODIFIED:20260419T152904Z
UID:17703-1780165800-1780165800@www.figlidartecuticchio.com
SUMMARY:STORIA DEI PALADINI DI FRANCIA
DESCRIPTION:STORIA DEI PALADINI DI FRANCIA\nSpettacoli tutti i sabati e le domeniche ore 18\,30\nconsigliata la prenotazione telefonica
URL:https://www.figlidartecuticchio.com/eventi/storia-dei-paladini-di-francia-146/
LOCATION:Teatro dei Pupi di Mimmo Cuticchio\, Via Bara 95\, Palermo\, PA\, 90133\, Italia
CATEGORIES:Opera dei Pupi
ATTACH;FMTTYPE=image/jpeg:https://www.figlidartecuticchio.com/wp-content/uploads/2022/09/83656856_2724237834320363_4861159537412931584_n.jpg
ORGANIZER;CN="Associazione Figli d'Arte Cuticchio":MAILTO:pupi@figlidartecuticchio.com
END:VEVENT
BEGIN:VEVENT
DTSTART;TZID=Europe/Rome:20260531T183000
DTEND;TZID=Europe/Rome:20260531T183000
DTSTAMP:20260419T214612
CREATED:20260419T153031Z
LAST-MODIFIED:20260419T153031Z
UID:17705-1780252200-1780252200@www.figlidartecuticchio.com
SUMMARY:STORIA DEI PALADINI DI FRANCIA
DESCRIPTION:STORIA DEI PALADINI DI FRANCIA\nSpettacoli tutti i sabati e le domeniche ore 18\,30\nconsigliata la prenotazione telefonica
URL:https://www.figlidartecuticchio.com/eventi/storia-dei-paladini-di-francia-147/
LOCATION:Teatro dei Pupi di Mimmo Cuticchio\, Via Bara 95\, Palermo\, PA\, 90133\, Italia
CATEGORIES:Evento,Opera dei Pupi
ATTACH;FMTTYPE=image/jpeg:https://www.figlidartecuticchio.com/wp-content/uploads/2025/10/tteatroCanon-_mg_7353_n.e.-1-scaled.jpeg
ORGANIZER;CN="Associazione Figli d'Arte Cuticchio":MAILTO:pupi@figlidartecuticchio.com
END:VEVENT
END:VCALENDAR