BEGIN:VCALENDAR
VERSION:2.0
PRODID:-//Associazione Figli d&#039;Arte Cuticchio - ECPv6.15.18//NONSGML v1.0//EN
CALSCALE:GREGORIAN
METHOD:PUBLISH
X-ORIGINAL-URL:https://www.figlidartecuticchio.com
X-WR-CALDESC:Eventi per Associazione Figli d&#039;Arte Cuticchio
REFRESH-INTERVAL;VALUE=DURATION:PT1H
X-Robots-Tag:noindex
X-PUBLISHED-TTL:PT1H
BEGIN:VTIMEZONE
TZID:Europe/Rome
BEGIN:DAYLIGHT
TZOFFSETFROM:+0100
TZOFFSETTO:+0200
TZNAME:CEST
DTSTART:20250330T010000
END:DAYLIGHT
BEGIN:STANDARD
TZOFFSETFROM:+0200
TZOFFSETTO:+0100
TZNAME:CET
DTSTART:20251026T010000
END:STANDARD
BEGIN:DAYLIGHT
TZOFFSETFROM:+0100
TZOFFSETTO:+0200
TZNAME:CEST
DTSTART:20260329T010000
END:DAYLIGHT
BEGIN:STANDARD
TZOFFSETFROM:+0200
TZOFFSETTO:+0100
TZNAME:CET
DTSTART:20261025T010000
END:STANDARD
BEGIN:DAYLIGHT
TZOFFSETFROM:+0100
TZOFFSETTO:+0200
TZNAME:CEST
DTSTART:20270328T010000
END:DAYLIGHT
BEGIN:STANDARD
TZOFFSETFROM:+0200
TZOFFSETTO:+0100
TZNAME:CET
DTSTART:20271031T010000
END:STANDARD
END:VTIMEZONE
BEGIN:VEVENT
DTSTART;TZID=Europe/Rome:20260404T183000
DTEND;TZID=Europe/Rome:20260404T183000
DTSTAMP:20260419T180401
CREATED:20260314T150849Z
LAST-MODIFIED:20260314T150849Z
UID:17613-1775327400-1775327400@www.figlidartecuticchio.com
SUMMARY:STORIA DEI PALADINI DI FRANCIA
DESCRIPTION:Storia dei Paladini di Francia\nSpettacoli tutti i sabati e le domeniche ore 18\,30\nconsigliata la prenotazione telefonica
URL:https://www.figlidartecuticchio.com/eventi/storia-dei-paladini-di-francia-121/
LOCATION:Teatro dei Pupi di Mimmo Cuticchio\, Via Bara 95\, Palermo\, PA\, 90133\, Italia
CATEGORIES:Opera dei Pupi
ATTACH;FMTTYPE=image/jpeg:https://www.figlidartecuticchio.com/wp-content/uploads/2025/10/tteatroCanon-_mg_7353_n.e.-1-scaled.jpeg
ORGANIZER;CN="Associazione Figli d'Arte Cuticchio":MAILTO:pupi@figlidartecuticchio.com
END:VEVENT
END:VCALENDAR