BEGIN:VCALENDAR
VERSION:2.0
PRODID:-//Associazione Figli d&#039;Arte Cuticchio - ECPv6.15.18//NONSGML v1.0//EN
CALSCALE:GREGORIAN
METHOD:PUBLISH
X-ORIGINAL-URL:https://www.figlidartecuticchio.com
X-WR-CALDESC:Eventi per Associazione Figli d&#039;Arte Cuticchio
REFRESH-INTERVAL;VALUE=DURATION:PT1H
X-Robots-Tag:noindex
X-PUBLISHED-TTL:PT1H
BEGIN:VTIMEZONE
TZID:Europe/Rome
BEGIN:DAYLIGHT
TZOFFSETFROM:+0100
TZOFFSETTO:+0200
TZNAME:CEST
DTSTART:20250330T010000
END:DAYLIGHT
BEGIN:STANDARD
TZOFFSETFROM:+0200
TZOFFSETTO:+0100
TZNAME:CET
DTSTART:20251026T010000
END:STANDARD
BEGIN:DAYLIGHT
TZOFFSETFROM:+0100
TZOFFSETTO:+0200
TZNAME:CEST
DTSTART:20260329T010000
END:DAYLIGHT
BEGIN:STANDARD
TZOFFSETFROM:+0200
TZOFFSETTO:+0100
TZNAME:CET
DTSTART:20261025T010000
END:STANDARD
BEGIN:DAYLIGHT
TZOFFSETFROM:+0100
TZOFFSETTO:+0200
TZNAME:CEST
DTSTART:20270328T010000
END:DAYLIGHT
BEGIN:STANDARD
TZOFFSETFROM:+0200
TZOFFSETTO:+0100
TZNAME:CET
DTSTART:20271031T010000
END:STANDARD
END:VTIMEZONE
BEGIN:VEVENT
DTSTART;TZID=Europe/Rome:20260131T203000
DTEND;TZID=Europe/Rome:20260131T203000
DTSTAMP:20260419T213635
CREATED:20251219T190649Z
LAST-MODIFIED:20251219T190649Z
UID:17420-1769891400-1769891400@www.figlidartecuticchio.com
SUMMARY:CIMBELINO (da William Shakespeare)
DESCRIPTION:CIMBELINO \nda William Shakespeare \nCompagnia Figli d’Arte Cuticchio \n TEATRO DUE DI PARMA \n  \nSPAZIO GRANDE\n31 gennaio ore 20\,30 \n1° febbraio ore 16\,00 \nconsigliato dai 10 anni e per tutti \ndrammaturgia e regia Giacomo Cuticchio \ncon \nGiacomo Cuticchio \nSalvino Calatabiano \nTania Giordano \nmusiche \nGiacomo Cuticchio\n \neseguite dal \nGiacomo Cuticchio Ensemble \nviolino \nMarco Badami \nvioloncelo \nPaolo Pellegrino \ntrombone \nFabio Piro \nSaxofono \nNicola Mogavero \nluci \nMarcello D’Agostino \norganizzazione \nElisa Puleo  \nUna produzione Associazione Figli d’Arte Cuticchio \nSINOSSI: \nNel regno della Britannia il matrimonio tra un onesto e prode gentiluomo di nome Postumo e la figlia del re\, Imogene\, è turbato da un triste evento. Il re\, istigato dalla moglie sposata in seconde nozze\, bandisce l’uomo dal regno e lo costringe ad un immediato esilio. Nonostante ciò\, Imogene gli resta fedele e non accetta in alcun modo la corte pressante di Cloten\, il malvagio figlio della regina. Seguono intrighi\, duelli\, battaglie per riaffermare la verità e riportare giustizia. Lo spettacolo innesta nuove radici nella tradizione popolare del teatro dei pupi e mette in relazione tradizione e innovazione\, lasciando alla creatività di Giacomo Cuticchio la responsabilità di percorrere a suo modo questa nuova avventura\, difficile già di per sé\, e ancora più difficile se si pensa alla novità dell’argomento rispetto alla tradizione dei pupi siciliani che incarnano le storie di Orlando e Carlo Magno\, di Crociate e di epica cavalleresca. Giacomo ha compiuto un lavoro di riduzione del Cimbelino\, mettendo in luce la trama essenziale\, il gioco delle passioni\, il carattere dei vari personaggi\, disponendo in sintonia il teatro dei pupi con lo spirito del genio shakespeariano al fine di dare allo spettatore i colori accesi di quest’opera che come tutti i lavori del drammaturgo inglese si ispira alla vita\, la interpreta e la rappresenta. Un’attenzione particolare va alle musiche\, inedite\, composte dallo stesso Giacomo ed eseguite dal vivo da un  ensemble di archi e fiati.
URL:https://www.figlidartecuticchio.com/eventi/cimbelino-da-william-shakespeare/
LOCATION:TEATRO DUE DI PARMA\, Viale Francesco Basetti\, 12a\, Parma\, PR\, 43121\, Italy
CATEGORIES:Evento,Opera dei Pupi
ATTACH;FMTTYPE=image/png:https://www.figlidartecuticchio.com/wp-content/uploads/2025/12/Cimbelino_Parma_2026.png
ORGANIZER;CN="FONDAZIONE TEATRO DUE DI PARMA":MAILTO:info@teatrodue.org
END:VEVENT
END:VCALENDAR